BEGIN:VCALENDAR
VERSION:2.0
PRODID:-//Schule Muolen - ECPv6.15.20//NONSGML v1.0//EN
CALSCALE:GREGORIAN
METHOD:PUBLISH
X-ORIGINAL-URL:https://www.schule-muolen.ch
X-WR-CALDESC:Veranstaltungen für Schule Muolen
REFRESH-INTERVAL;VALUE=DURATION:PT1H
X-Robots-Tag:noindex
X-PUBLISHED-TTL:PT1H
BEGIN:VTIMEZONE
TZID:UTC
BEGIN:STANDARD
TZOFFSETFROM:+0000
TZOFFSETTO:+0000
TZNAME:UTC
DTSTART:20240101T000000
END:STANDARD
END:VTIMEZONE
BEGIN:VEVENT
DTSTART;VALUE=DATE:20260403
DTEND;VALUE=DATE:20260420
DTSTAMP:20260425T175650
CREATED:20250805T094814Z
LAST-MODIFIED:20250807T093412Z
UID:2171-1775174400-1776643199@www.schule-muolen.ch
SUMMARY:Frühlingsferien
DESCRIPTION:3. – 19. April: Frühlingsferien
URL:https://www.schule-muolen.ch/termin/fruehlingsferien/
END:VEVENT
BEGIN:VEVENT
DTSTART;VALUE=DATE:20260302
DTEND;VALUE=DATE:20260307
DTSTAMP:20260425T175650
CREATED:20250805T094700Z
LAST-MODIFIED:20250807T093445Z
UID:2169-1772409600-1772841599@www.schule-muolen.ch
SUMMARY:Sportwoche / Skilager
DESCRIPTION:2. – 6. März: Sportwoche / Skilager
URL:https://www.schule-muolen.ch/termin/sportwoche-skilager/
END:VEVENT
BEGIN:VEVENT
DTSTART;TZID=UTC:20260224T193000
DTEND;TZID=UTC:20260224T210000
DTSTAMP:20260425T175650
CREATED:20260113T071145Z
LAST-MODIFIED:20260113T071323Z
UID:2642-1771961400-1771966800@www.schule-muolen.ch
SUMMARY:Infoabend Cybermobbing und Gewalt
DESCRIPTION:Präventionsveranstaltung mit dem Jugenddienst der Kantonspolizei St.Gallen; anschl. Apéro
URL:https://www.schule-muolen.ch/termin/infoabend-cybermobbing-und-gewalt/
LOCATION:Vereinslokal\, Dorfstrasse 31\, 9313 Muolen\, 9313\, Switzerland
ORGANIZER;CN="Schule Muolen und Elternforum":MAILTO:schulleitung@schule-muolen.ch
END:VEVENT
BEGIN:VEVENT
DTSTART;TZID=UTC:20260219T090000
DTEND;TZID=UTC:20260219T110000
DTSTAMP:20260425T175650
CREATED:20250805T094551Z
LAST-MODIFIED:20250807T093549Z
UID:2167-1771491600-1771498800@www.schule-muolen.ch
SUMMARY:Zweiter Besuchstag
DESCRIPTION:Donnerstag\, 19. Februar Zweiter Besuchstag Elternkaffee inkl. Kinderhüeti von 09.00 – 11.00 Uhr
URL:https://www.schule-muolen.ch/termin/zweiter-besuchstag/
END:VEVENT
BEGIN:VEVENT
DTSTART;TZID=UTC:20260124T080000
DTEND;TZID=UTC:20260201T170000
DTSTAMP:20260425T175650
CREATED:20251118T145257Z
LAST-MODIFIED:20251118T145257Z
UID:2551-1769241600-1769965200@www.schule-muolen.ch
SUMMARY:Sportferien
DESCRIPTION:24. Januar– 1. Februar: Sportferien
URL:https://www.schule-muolen.ch/termin/sportferien/
END:VEVENT
BEGIN:VEVENT
DTSTART;VALUE=DATE:20251220
DTEND;VALUE=DATE:20260105
DTSTAMP:20260425T175650
CREATED:20250805T094357Z
LAST-MODIFIED:20250807T093618Z
UID:2165-1766188800-1767571199@www.schule-muolen.ch
SUMMARY:Weihnachtsferien
DESCRIPTION:20. Dezember – 4. Januar: Weihnachtsferien
URL:https://www.schule-muolen.ch/termin/weihnachtsferien/
END:VEVENT
BEGIN:VEVENT
DTSTART;VALUE=DATE:20251119
DTEND;VALUE=DATE:20251120
DTSTAMP:20260425T175650
CREATED:20250805T094253Z
LAST-MODIFIED:20250807T100726Z
UID:2163-1763510400-1763596799@www.schule-muolen.ch
SUMMARY:Kinderuni
DESCRIPTION:Mittwoch\, 19. November: Kinderuni St.Gallen (Anlass koordiniert vom Elternforum); «Die spannende Reise des Geldes: Gibt es bald kein Bargeld mehr?» Dr. Tobias Trütsch\, Ph.D.
URL:https://www.schule-muolen.ch/termin/kinderuni-4/
END:VEVENT
BEGIN:VEVENT
DTSTART;TZID=UTC:20251112T172000
DTEND;TZID=UTC:20251112T193000
DTSTAMP:20260425T175650
CREATED:20250807T094835Z
LAST-MODIFIED:20251029T130330Z
UID:2199-1762968000-1762975800@www.schule-muolen.ch
SUMMARY:Laternli-Umzug
DESCRIPTION:Mittwoch\, 12. November Laternli-Umzug\, ab 17.20 Uhr für den Kindergarten und die Unterstufe
URL:https://www.schule-muolen.ch/termin/laternli-umzug-2/
END:VEVENT
BEGIN:VEVENT
DTSTART;VALUE=DATE:20251112
DTEND;VALUE=DATE:20251113
DTSTAMP:20260425T175650
CREATED:20250805T094228Z
LAST-MODIFIED:20250807T100822Z
UID:2161-1762905600-1762991999@www.schule-muolen.ch
SUMMARY:Kinderuni
DESCRIPTION:29.10\, 5./12./19.11 – jeweils von 15.00 – 15.45 Uhr Kinder Uni / Die Universität St.Gallen lädt zu gesellschaftsrelevanten Vorlesungen ein; vgl. Kinder-Uni: Vorlesungen für Kinder | unisg.ch
URL:https://www.schule-muolen.ch/termin/kinderuni-3/
END:VEVENT
BEGIN:VEVENT
DTSTART;VALUE=DATE:20251105
DTEND;VALUE=DATE:20251106
DTSTAMP:20260425T175650
CREATED:20250805T094202Z
LAST-MODIFIED:20250807T094526Z
UID:2159-1762300800-1762387199@www.schule-muolen.ch
SUMMARY:Kinderuni
DESCRIPTION:29.10\, 5./12./19.11 – jeweils von 15.00 – 15.45 Uhr Kinder Uni / Die Universität St.Gallen lädt zu gesellschaftsrelevanten Vorlesungen ein; vgl. Kinder-Uni: Vorlesungen für Kinder | unisg.ch
URL:https://www.schule-muolen.ch/termin/kinderuni-2/
END:VEVENT
BEGIN:VEVENT
DTSTART;VALUE=DATE:20251030
DTEND;VALUE=DATE:20251031
DTSTAMP:20260425T175650
CREATED:20250805T093751Z
LAST-MODIFIED:20250807T100607Z
UID:2153-1761782400-1761868799@www.schule-muolen.ch
SUMMARY:Aktion Pausenmilch
DESCRIPTION:Donnerstag\, 30. Oktober Pause – Aktion Pausenmilch – Bäuerinnen-Vereinigung Muolen
URL:https://www.schule-muolen.ch/termin/aktion-pausenmilch/
END:VEVENT
BEGIN:VEVENT
DTSTART;VALUE=DATE:20251029
DTEND;VALUE=DATE:20251030
DTSTAMP:20260425T175650
CREATED:20250805T094131Z
LAST-MODIFIED:20250807T094604Z
UID:2157-1761696000-1761782399@www.schule-muolen.ch
SUMMARY:Kinderuni
DESCRIPTION:29.10\, 5./12./19.11 – jeweils von 15.00 – 15.45 Uhr Kinder Uni / Die Universität St.Gallen lädt zu gesellschaftsrelevanten Vorlesungen ein; vgl. Kinder-Uni: Vorlesungen für Kinder | unisg.ch
URL:https://www.schule-muolen.ch/termin/kinderuni/
END:VEVENT
BEGIN:VEVENT
DTSTART;VALUE=DATE:20250927
DTEND;VALUE=DATE:20251020
DTSTAMP:20260425T175650
CREATED:20250805T093856Z
LAST-MODIFIED:20250807T102307Z
UID:2155-1758931200-1760918399@www.schule-muolen.ch
SUMMARY:Herbstferien
DESCRIPTION:27. September – 19. Oktober
URL:https://www.schule-muolen.ch/termin/herbstferien/
END:VEVENT
BEGIN:VEVENT
DTSTART;TZID=UTC:20250919T090000
DTEND;TZID=UTC:20250919T110000
DTSTAMP:20260425T175650
CREATED:20250805T093624Z
LAST-MODIFIED:20250807T101032Z
UID:2151-1758272400-1758279600@www.schule-muolen.ch
SUMMARY:Erster Besuchstag
DESCRIPTION:Freitag\, 19. September Erster Besuchstag:. Elternkaffee inkl. Kinderhüeti von 09.00 – 11.00 Uhr
URL:https://www.schule-muolen.ch/termin/erster-besuchstag/
END:VEVENT
BEGIN:VEVENT
DTSTART;TZID=UTC:20250911T193000
DTEND;TZID=UTC:20250911T210000
DTSTAMP:20260425T175650
CREATED:20250805T093443Z
LAST-MODIFIED:20250807T102105Z
UID:2148-1757619000-1757624400@www.schule-muolen.ch
SUMMARY:Elternabend Kindergarten
DESCRIPTION:Donnerstag\, 11. September\, 19.30 Uhr: Elternabend Kindergarten; im jeweiligen Schulzimmer der Klasse
URL:https://www.schule-muolen.ch/termin/elternabend-kindergarten/
END:VEVENT
BEGIN:VEVENT
DTSTART;TZID=UTC:20250909T193000
DTEND;TZID=UTC:20250909T210000
DTSTAMP:20260425T175650
CREATED:20250805T093302Z
LAST-MODIFIED:20250807T102128Z
UID:2145-1757446200-1757451600@www.schule-muolen.ch
SUMMARY:Elternabend Mittelstufe
DESCRIPTION:Dienstag\, 9. September\, 19.30 Uhr: Elternabende Mittelstufe; im jeweiligen Schulzimmer der Klasse
URL:https://www.schule-muolen.ch/termin/elternabend-der-mittelstufe/
END:VEVENT
BEGIN:VEVENT
DTSTART;TZID=UTC:20250826T193000
DTEND;TZID=UTC:20250826T210000
DTSTAMP:20260425T175650
CREATED:20250805T092930Z
LAST-MODIFIED:20250807T102217Z
UID:2140-1756236600-1756242000@www.schule-muolen.ch
SUMMARY:Elternabende Unterstufe
DESCRIPTION:Dienstag\, 26. August\, 19.30 Uhr: Elternabende Unterstufe; im jeweiligen Schulzimmer der Klasse
URL:https://www.schule-muolen.ch/termin/elternabende-unterstufe/
END:VEVENT
BEGIN:VEVENT
DTSTART;VALUE=DATE:20250811
DTEND;VALUE=DATE:20250812
DTSTAMP:20260425T175650
CREATED:20250804T101244Z
LAST-MODIFIED:20250807T102010Z
UID:1970-1754870400-1754956799@www.schule-muolen.ch
SUMMARY:Start ins Schuljahr 2025/2026
DESCRIPTION:Montag\, 11. August: Start ins Schuljahr 2025/2026; Willkommen 1. – 6. Klasse um 08.00 Uhr unter dem Glasdach
URL:https://www.schule-muolen.ch/termin/start-ins-schuljahr-2025-2025/
END:VEVENT
END:VCALENDAR